BEGIN:VCALENDAR
VERSION:2.0
PRODID:-//wp-events-plugin.com//7.2.3.1//EN
TZID:America/New_York
X-WR-TIMEZONE:America/New_York
BEGIN:VEVENT
UID:1220@ivhog.org
DTSTART;TZID=America/New_York:20200530T144500
DTEND;TZID=America/New_York:20200530T160000
DTSTAMP:20200530T035554Z
URL:https://www.ivhog.org/events/birthday-ride-for-8-year-old-bike-lover/
SUMMARY:Birthday Ride for 8 Year old Bike Lover
DESCRIPTION:This coming Saturday\, May 30th\, there is a ride for the son o
 f one of Sandy Kester's friends from work. The young man is turning 8 and 
 loves bikes\, cars\, trucks\, etc. The weather is supposed to be nice. The
  ride is in Riegelsville\, PA. at 3:45 PM. We will meet at Wawa on Route 6
 63 in Quakertown as ride from there. BACA is already onboard and I am sure
  that other local clubs will also get involved. Please contact me if you h
 ave any questions\, Pete\, 267-446-1326
CATEGORIES:Birthday Ride
LOCATION:WAWA 663 & 476\, 1960 John Fries Hwy\, Quakertown\, PA\, 18951\, U
 nited States
GEO:40.4352935;-75.41571779999998
X-APPLE-STRUCTURED-LOCATION;VALUE=URI;X-ADDRESS=1960 John Fries Hwy\, Quake
 rtown\, PA\, 18951\, United States;X-APPLE-RADIUS=100;X-TITLE=WAWA 663 & 4
 76:geo:40.4352935,-75.41571779999998
END:VEVENT
BEGIN:VTIMEZONE
TZID:America/New_York
X-LIC-LOCATION:America/New_York
BEGIN:DAYLIGHT
DTSTART:20200308T030000
TZOFFSETFROM:-0500
TZOFFSETTO:-0400
TZNAME:EDT
END:DAYLIGHT
END:VTIMEZONE
END:VCALENDAR