BEGIN:VCALENDAR
VERSION:2.0
PRODID:-//wp-events-plugin.com//7.2.3.1//EN
TZID:America/New_York
X-WR-TIMEZONE:America/New_York
BEGIN:VEVENT
UID:1221@ivhog.org
DTSTART;TZID=America/New_York:20200531T133000
DTEND;TZID=America/New_York:20200531T150000
DTSTAMP:20200529T143018Z
URL:https://www.ivhog.org/events/graduation-ride-for-christy-class-of-2020
 /
SUMMARY:Graduation Ride for Christy Class of 2020
DESCRIPTION:This coming Sunday\, May 31st there will be a ride for Christy\
 , class of 2020. Christy is a niece of Father Fred\, whom most everyone kn
 ows. The ride will be starting at Franconia Mennonite church\, 613 Harleys
 ville Pike\, Telford\, PA\, KSU 1:30 PM Sharp! If you have any questions\,
  please contact Pete at 267-446-1326 or pfrentzen72@gmail.com.
ATTACH;FMTTYPE=image/jpeg:https://www.ivhog.org/wp-content/uploads/2020_Gr
 aduation.png
CATEGORIES:Graduation Ride
LOCATION:Franconia Mennonite Church\, 613 Harleysville Pike\, Telford\, PA\
 , 18969\, United States
GEO:40.30424;-75.365582
X-APPLE-STRUCTURED-LOCATION;VALUE=URI;X-ADDRESS=613 Harleysville Pike\, Tel
 ford\, PA\, 18969\, United States;X-APPLE-RADIUS=100;X-TITLE=Franconia Men
 nonite Church:geo:40.30424,-75.365582
END:VEVENT
BEGIN:VTIMEZONE
TZID:America/New_York
X-LIC-LOCATION:America/New_York
BEGIN:DAYLIGHT
DTSTART:20200308T030000
TZOFFSETFROM:-0500
TZOFFSETTO:-0400
TZNAME:EDT
END:DAYLIGHT
END:VTIMEZONE
END:VCALENDAR