BEGIN:VCALENDAR
VERSION:2.0
PRODID:-//wp-events-plugin.com//7.2.3.1//EN
TZID:America/New_York
X-WR-TIMEZONE:America/New_York
BEGIN:VEVENT
UID:1219@ivhog.org
DTSTART;TZID=America/New_York:20200516T091500
DTEND;TZID=America/New_York:20200516T101500
DTSTAMP:20200513T191715Z
URL:https://www.ivhog.org/events/kevin-thumper-flowers-memorial-ride/
SUMMARY:Kevin “Thumper” Flowers memorial ride
DESCRIPTION:KSU 915 AM at Souderton WAWA\n\nKevin\, president of the DR Rid
 ers\, passed away the other day after a long battle with cancer. For those
  of you that do not know him\, he was a great person\, very outgoing\, and
  welcoming to one and all that he came across. I have had the pleasure of 
 knowing him for several years and rode with him in a funeral ride for one 
 of their members a couple years back. This coming Saturday\, May 16th\, th
 ere will be a memorial ride for Thumper. Meeting at the American Legion\, 
 351 Maple St\, Ambler\, KSU 10:00 AM. There will be a ride by his house an
 d then to several of his favorite places. Please let me know if you are ab
 le to attend. Finally supposed to be nice riding weather for the day.
CATEGORIES:Honor Guard Ride
LOCATION:Wawa - 113 & Bethlehem Pike\, 3520 Bethlehem Pike\, Souderton\, Pa
 \, 18964\, United States
GEO:40.31885399999999;-75.3036495
X-APPLE-STRUCTURED-LOCATION;VALUE=URI;X-ADDRESS=3520 Bethlehem Pike\, Soude
 rton\, Pa\, 18964\, United States;X-APPLE-RADIUS=100;X-TITLE=Wawa - 113 & 
 Bethlehem Pike:geo:40.31885399999999,-75.3036495
END:VEVENT
BEGIN:VTIMEZONE
TZID:America/New_York
X-LIC-LOCATION:America/New_York
BEGIN:DAYLIGHT
DTSTART:20200308T030000
TZOFFSETFROM:-0500
TZOFFSETTO:-0400
TZNAME:EDT
END:DAYLIGHT
END:VTIMEZONE
END:VCALENDAR