BEGIN:VCALENDAR
VERSION:2.0
PRODID:-//wp-events-plugin.com//7.2.3.1//EN
TZID:America/New_York
X-WR-TIMEZONE:America/New_York
BEGIN:VEVENT
UID:1548@ivhog.org
DTSTART;TZID=America/New_York:20260517T084500
DTEND;TZID=America/New_York:20260517T120000
DTSTAMP:20260421T131846Z
URL:https://www.ivhog.org/events/ride-to-journey-church/
SUMMARY:Ride to Journey Church
DESCRIPTION:A ride to the 9:30 am service at Journey Church\nVIP parking. M
 eet at Wawa 113 &amp\; 73 KSU at 9 am\nRide and breakfast after Church.\n\
 nAll are welcome\, come as you are.\n\nClick here for the Meetup Event/RSV
 P page.
CATEGORIES:IVHOG Rides
LOCATION:WaWa Skippack\, 4121 West Skippack Pike\, Schwenksville\, PA\, 194
 73\, United States
GEO:40.228591;-75.404699
X-APPLE-STRUCTURED-LOCATION;VALUE=URI;X-ADDRESS=4121 West Skippack Pike\, S
 chwenksville\, PA\, 19473\, United States;X-APPLE-RADIUS=100;X-TITLE=WaWa 
 Skippack:geo:40.228591,-75.404699
END:VEVENT
BEGIN:VTIMEZONE
TZID:America/New_York
X-LIC-LOCATION:America/New_York
BEGIN:DAYLIGHT
DTSTART:20260308T030000
TZOFFSETFROM:-0500
TZOFFSETTO:-0400
TZNAME:EDT
END:DAYLIGHT
END:VTIMEZONE
END:VCALENDAR