BEGIN:VCALENDAR
VERSION:2.0
PRODID:-//wp-events-plugin.com//7.2.3.1//EN
TZID:America/New_York
X-WR-TIMEZONE:America/New_York
BEGIN:VEVENT
UID:1217@ivhog.org
DTSTART;TZID=America/New_York:20200509T144500
DTEND;TZID=America/New_York:20200509T154500
DTSTAMP:20200505T195647Z
URL:https://www.ivhog.org/events/ronald-oherrick-stinky/
SUMMARY:Ronald O'herrick "Stinky"
DESCRIPTION:Ron O'Herick "Stinky" passed away and we are going to do a ride
  in his memory.\nWe will be meeting at the Ross Dress for Less Store Parki
 ng Lot\, in Ralph's Corner\, across the Street from WAWA.\n\nRon was well 
 known well by some of our more senior members.\nWe will ride an honor guar
 d past his home where his Family will be expecting us to ride by.
ATTACH;FMTTYPE=image/jpeg:https://www.ivhog.org/wp-content/uploads/Ronald_
 Oherrick-1.png
CATEGORIES:IVHOG Rides
LOCATION:Ross Dress for Less\, 2333 Welsh Rd\, \, Lansdale\, PA\, 19446\, U
 nited States
GEO:40.262843;-75.316049
X-APPLE-STRUCTURED-LOCATION;VALUE=URI;X-ADDRESS=2333 Welsh Rd\, \, Lansdale
 \, PA\, 19446\, United States;X-APPLE-RADIUS=100;X-TITLE=Ross Dress for Le
 ss:geo:40.262843,-75.316049
END:VEVENT
BEGIN:VTIMEZONE
TZID:America/New_York
X-LIC-LOCATION:America/New_York
BEGIN:DAYLIGHT
DTSTART:20200308T030000
TZOFFSETFROM:-0500
TZOFFSETTO:-0400
TZNAME:EDT
END:DAYLIGHT
END:VTIMEZONE
END:VCALENDAR